BEGIN:VCALENDAR
VERSION:2.0
PRODID:-//The Calgary Highlanders (10th Canadians) - ECPv6.15.15//NONSGML v1.0//EN
CALSCALE:GREGORIAN
METHOD:PUBLISH
X-ORIGINAL-URL:https://calgaryhighlanders.com
X-WR-CALDESC:Events for The Calgary Highlanders (10th Canadians)
REFRESH-INTERVAL;VALUE=DURATION:PT1H
X-Robots-Tag:noindex
X-PUBLISHED-TTL:PT1H
BEGIN:VTIMEZONE
TZID:America/Edmonton
BEGIN:DAYLIGHT
TZOFFSETFROM:-0700
TZOFFSETTO:-0600
TZNAME:MDT
DTSTART:20180311T090000
END:DAYLIGHT
BEGIN:STANDARD
TZOFFSETFROM:-0600
TZOFFSETTO:-0700
TZNAME:MST
DTSTART:20181104T080000
END:STANDARD
BEGIN:DAYLIGHT
TZOFFSETFROM:-0700
TZOFFSETTO:-0600
TZNAME:MDT
DTSTART:20190310T090000
END:DAYLIGHT
BEGIN:STANDARD
TZOFFSETFROM:-0600
TZOFFSETTO:-0700
TZNAME:MST
DTSTART:20191103T080000
END:STANDARD
BEGIN:DAYLIGHT
TZOFFSETFROM:-0700
TZOFFSETTO:-0600
TZNAME:MDT
DTSTART:20200308T090000
END:DAYLIGHT
BEGIN:STANDARD
TZOFFSETFROM:-0600
TZOFFSETTO:-0700
TZNAME:MST
DTSTART:20201101T080000
END:STANDARD
END:VTIMEZONE
BEGIN:VEVENT
DTSTART;TZID=America/Edmonton:20190426T180000
DTEND;TZID=America/Edmonton:20190426T233000
DTSTAMP:20260422T004921
CREATED:20180928T225829Z
LAST-MODIFIED:20191202T040035Z
UID:13896-1556301600-1556321400@calgaryhighlanders.com
SUMMARY:St. Julien's Officers Mess Dinner
DESCRIPTION:The Calgary Highlanders Officers Mess will hold a mess dinner to commemorate the Battle of St. Julien\,  in particular  attack on Kitcheners’ Wood (22 April 1915)  (Attendance by invitation only).
URL:https://calgaryhighlanders.com/event/st-juliens-officers-mess-dinner/
LOCATION:Officers Mess Mewata\, 801 11th Street SW\, Calgary\, Alberta\, T2P 2C4\, Canada
ATTACH;FMTTYPE=image/jpeg:https://calgaryhighlanders.com/wp-content/uploads/2017/09/dinner.jpg
ORGANIZER;CN="Calgary Highlanders Officers Mess":MAILTO:OfficersMess@Calgaryhighlanders.com
END:VEVENT
BEGIN:VEVENT
DTSTART;TZID=America/Edmonton:20190427T090000
DTEND;TZID=America/Edmonton:20190427T130000
DTSTAMP:20260422T004921
CREATED:20180928T224102Z
LAST-MODIFIED:20191202T033902Z
UID:13893-1556355600-1556370000@calgaryhighlanders.com
SUMMARY:St. Julien's Parade 2019
DESCRIPTION:St. Julien’s Day Parade will be held on Saturday\, 27 April 2019. Calgary Highlanders will march in formation from Mewata Armoury via 8th Ave to the Cathedral Church of the Redeemer for a church service. Following the service\, the unit will then march over to city hall for a brief parade service and inspection by the Mayor or City representative. On the completion of the parade service\, Calgary Highlanders will march back to Mewata using 8th Avenue.
URL:https://calgaryhighlanders.com/event/st-juliens-parade-2019/
LOCATION:Mewata Armoury\, 801 - 11 Street SW\, Calgary\, Alberta\, T2P 2C4\, Canada
ATTACH;FMTTYPE=image/png:https://calgaryhighlanders.com/wp-content/uploads/2018/09/stjulien2006.png
ORGANIZER;CN="The Calgary Highlanders":MAILTO:info@calgaryhighlanders.com
END:VEVENT
BEGIN:VEVENT
DTSTART;TZID=America/Edmonton:20190427T180000
DTEND;TZID=America/Edmonton:20190427T220000
DTSTAMP:20260422T004921
CREATED:20180928T231359Z
LAST-MODIFIED:20191202T035812Z
UID:13902-1556388000-1556402400@calgaryhighlanders.com
SUMMARY:Calgary Highlanders Association Dinner
DESCRIPTION:The dinner for the Calgary Highlanders Regimental Association\, which is open to any former or currently serving Calgary Highlander.  All association members will receive an invite in the mail prior to the event and are asked to RSVP in advance. Dinner tickets are available at the door for those whose current address is not on file with the Association.
URL:https://calgaryhighlanders.com/event/calgary-highlanders-association-dinner/
LOCATION:Mewata Armoury\, 801 - 11 Street SW\, Calgary\, Alberta\, T2P 2C4\, Canada
ATTACH;FMTTYPE=image/jpeg:https://calgaryhighlanders.com/wp-content/uploads/2018/09/2015_d3_w.jpg
END:VEVENT
END:VCALENDAR