BEGIN:VCALENDAR
VERSION:2.0
PRODID:-//The Calgary Highlanders (10th Canadians) - ECPv6.15.15//NONSGML v1.0//EN
CALSCALE:GREGORIAN
METHOD:PUBLISH
X-ORIGINAL-URL:https://calgaryhighlanders.com
X-WR-CALDESC:Events for The Calgary Highlanders (10th Canadians)
REFRESH-INTERVAL;VALUE=DURATION:PT1H
X-Robots-Tag:noindex
X-PUBLISHED-TTL:PT1H
BEGIN:VTIMEZONE
TZID:America/Edmonton
BEGIN:DAYLIGHT
TZOFFSETFROM:-0700
TZOFFSETTO:-0600
TZNAME:MDT
DTSTART:20210314T090000
END:DAYLIGHT
BEGIN:STANDARD
TZOFFSETFROM:-0600
TZOFFSETTO:-0700
TZNAME:MST
DTSTART:20211107T080000
END:STANDARD
BEGIN:DAYLIGHT
TZOFFSETFROM:-0700
TZOFFSETTO:-0600
TZNAME:MDT
DTSTART:20220313T090000
END:DAYLIGHT
BEGIN:STANDARD
TZOFFSETFROM:-0600
TZOFFSETTO:-0700
TZNAME:MST
DTSTART:20221106T080000
END:STANDARD
BEGIN:DAYLIGHT
TZOFFSETFROM:-0700
TZOFFSETTO:-0600
TZNAME:MDT
DTSTART:20230312T090000
END:DAYLIGHT
BEGIN:STANDARD
TZOFFSETFROM:-0600
TZOFFSETTO:-0700
TZNAME:MST
DTSTART:20231105T080000
END:STANDARD
BEGIN:DAYLIGHT
TZOFFSETFROM:-0700
TZOFFSETTO:-0600
TZNAME:MDT
DTSTART:20240310T090000
END:DAYLIGHT
BEGIN:STANDARD
TZOFFSETFROM:-0600
TZOFFSETTO:-0700
TZNAME:MST
DTSTART:20241103T080000
END:STANDARD
BEGIN:DAYLIGHT
TZOFFSETFROM:-0700
TZOFFSETTO:-0600
TZNAME:MDT
DTSTART:20250309T090000
END:DAYLIGHT
BEGIN:STANDARD
TZOFFSETFROM:-0600
TZOFFSETTO:-0700
TZNAME:MST
DTSTART:20251102T080000
END:STANDARD
BEGIN:DAYLIGHT
TZOFFSETFROM:-0700
TZOFFSETTO:-0600
TZNAME:MDT
DTSTART:20260308T090000
END:DAYLIGHT
BEGIN:STANDARD
TZOFFSETFROM:-0600
TZOFFSETTO:-0700
TZNAME:MST
DTSTART:20261101T080000
END:STANDARD
BEGIN:DAYLIGHT
TZOFFSETFROM:-0700
TZOFFSETTO:-0600
TZNAME:MDT
DTSTART:20270314T090000
END:DAYLIGHT
BEGIN:STANDARD
TZOFFSETFROM:-0600
TZOFFSETTO:-0700
TZNAME:MST
DTSTART:20271107T080000
END:STANDARD
END:VTIMEZONE
BEGIN:VTIMEZONE
TZID:America/Denver
BEGIN:DAYLIGHT
TZOFFSETFROM:-0700
TZOFFSETTO:-0600
TZNAME:MDT
DTSTART:20220313T090000
END:DAYLIGHT
BEGIN:STANDARD
TZOFFSETFROM:-0600
TZOFFSETTO:-0700
TZNAME:MST
DTSTART:20221106T080000
END:STANDARD
BEGIN:DAYLIGHT
TZOFFSETFROM:-0700
TZOFFSETTO:-0600
TZNAME:MDT
DTSTART:20230312T090000
END:DAYLIGHT
BEGIN:STANDARD
TZOFFSETFROM:-0600
TZOFFSETTO:-0700
TZNAME:MST
DTSTART:20231105T080000
END:STANDARD
BEGIN:DAYLIGHT
TZOFFSETFROM:-0700
TZOFFSETTO:-0600
TZNAME:MDT
DTSTART:20240310T090000
END:DAYLIGHT
BEGIN:STANDARD
TZOFFSETFROM:-0600
TZOFFSETTO:-0700
TZNAME:MST
DTSTART:20241103T080000
END:STANDARD
END:VTIMEZONE
BEGIN:VEVENT
DTSTART;TZID=America/Edmonton:20220602T190000
DTEND;TZID=America/Edmonton:20220602T210000
DTSTAMP:20260422T163546
CREATED:20211105T193518Z
LAST-MODIFIED:20220510T190423Z
UID:15976-1654196400-1654203600@calgaryhighlanders.com
SUMMARY:Veterans' Writing Workshop - Book Launch
DESCRIPTION:https://www.facebook.com/search/top/?q=WarInPieces \n\n\n\nMeet the authors of “A Mile in Their Boots” on June 2\, when we celebrate this collection of stories from our Veterans’ Writing Workshop.\nThe book was written as a compilation of the works of Calgary military authors who participated in the Veterans Writing Workshop\, sponsored in part by The Calgary Highlanders Regimental Funds Foundation.  The workshop takes place from September to June in Calgary and is free of charge for serving CAF members or veterans.  Last year\, two Calgary Highlanders participated and they are both included in this book.\n\n\n\n\n\nAbout this event\n\n\nThe Book Launch is a free event at the Military Museums featuring the authors themselves reading passages from the stories they wrote while taking part in the War in Pieces Veterans’ Writing Workshop. They will be available to sign books and answer questions. There will be copies of the book for sale as well as a cash bar available. \nDate and time\n\nThu\, 2 June 2022 \n7:00 PM – 9:00 PM MDT \n\nLocation\n\nThe Military Museums \n4520 Crowchild Trail Southwest \nCalgary\, AB T2T 5J4 \n  \nRegister at the following link: \n\n\n\n\n\nhttps://www.eventbrite.ca/e/a-mile-in-their-boots-book-launch-tickets-327702566197?fbclid=IwAR13OtAQdNXnK7waieAFvwtmDmv2L3G3wFvgqDsYye8Vk-YjZ1Wj_wnq1l0 \n 
URL:https://calgaryhighlanders.com/event/annual-general-meeting/
CATEGORIES:Association AGM,Home Page
END:VEVENT
BEGIN:VEVENT
DTSTART;TZID=America/Edmonton:20220806T130000
DTEND;TZID=America/Edmonton:20220806T150000
DTSTAMP:20260422T163546
CREATED:20220714T040439Z
LAST-MODIFIED:20220714T043138Z
UID:15998-1659790800-1659798000@calgaryhighlanders.com
SUMMARY:100th Anniversary Concert
DESCRIPTION:On August 6\, 2022 the Regimental Pipes and Drums of the Calgary Highlanders will be proudly commemorating our 100th Anniversary by playing a concert on St. Patrick’s Island from 1-3.\n\nThis is the same location our predecessors played for the first time to the residents of Calgary on August 6\, 1922.\n\nIt’s our pleasure to also perform with the KOCR and RCA brass and reed bands for this special show! \nIn addition to the concert there will also be members of the unit and regimental museum conducting community engagement activities at the event site between 1200 and 1600 hrs. \nJoin us in celebrating this significant milestone for both the regiment and the city of Calgary.
URL:https://calgaryhighlanders.com/event/regimental-pipes-and-drums-100th-anniversary-concert/
LOCATION:St Patrick’s Island – Confluence Plaza\, 1300 12 St NE\, Calgary\, Alberta\, T2E 7V6\, Canada
CATEGORIES:Home Page
ATTACH;FMTTYPE=image/jpeg:https://calgaryhighlanders.com/wp-content/uploads/Concert_Smaller_Image.jpg
ORGANIZER;CN="The Calgary Highlanders":MAILTO:info@calgaryhighlanders.com
END:VEVENT
BEGIN:VEVENT
DTSTART;TZID=America/Denver:20230506T180000
DTEND;TZID=America/Denver:20230506T233000
DTSTAMP:20260422T163546
CREATED:20211031T104138Z
LAST-MODIFIED:20231121T151133Z
UID:12355-1683396000-1683415800@calgaryhighlanders.com
SUMMARY:73rd Grand Highland Military Ball
DESCRIPTION:We are delighted to host the 73rd Grand Highland Military Ball on Saturday\, May 6\, 2023  at The Fairmont Palliser. \nVisit the Website for more information \nLast May after two long years\, we welcomed you to an evening of warm highland tradition in support of Calgary’s primary reserve infantry regiment\, the Calgary Highlanders. This year’s ball will held on Saturday\, May 6\, 2023 at the Fairmont Palliser Hotel in Calgary.  Additional information will be posted to this website as it becomes available. \n​Enjoy this traditional and formal dinner and dance. As an extraordinary event for the past 73 years\, we have served as one of our city’s longest standing events celebrating Calgary’s infantry regiment and their service to Canada and our community.
URL:https://calgaryhighlanders.com/event/grand-highland-military-ball/
LOCATION:The Fairmont Palliser Hotel\, 133 9 Ave SW\, Calgary\, Alberta\, T2P 2M3\, Canada
CATEGORIES:Highland Ball,Home Page
ATTACH;FMTTYPE=image/jpeg:https://calgaryhighlanders.com/wp-content/uploads/2017/06/Grand-March-2017.jpg
ORGANIZER;CN="The Calgary Highlanders Regimental Funds Foundation":MAILTO:CHRFF@calgaryhighlanders.com
END:VEVENT
BEGIN:VEVENT
DTSTART;TZID=America/Edmonton:20240504T180000
DTEND;TZID=America/Edmonton:20240504T235900
DTSTAMP:20260422T163546
CREATED:20231121T152213Z
LAST-MODIFIED:20250304T221625Z
UID:16542-1714845600-1714867140@calgaryhighlanders.com
SUMMARY:74th Grand Highland Military Ball
DESCRIPTION:We are delighted to host the 74th Grand Highland Military Ball at The Fairmont Palliser on Saturday\, May 4\, 2024. \nVisit the Website for more information \nWe welcome you to save next year’s event date by clicking here.  \nAdditional information will be posted to this Website as it becomes available. \n​Enjoy this traditional and formal dinner and dance. An extraordinary event for the past 74 years\, it is one of our city’s longest-standing celebrations of Calgary’s infantry regiment and its service to Canada and our community.
URL:https://calgaryhighlanders.com/event/74th-grand-highland-military-ball/
LOCATION:The Fairmont Palliser Hotel\, 133 9 Ave SW\, Calgary\, Alberta\, T2P 2M3\, Canada
CATEGORIES:Home Page
ATTACH;FMTTYPE=image/jpeg:https://calgaryhighlanders.com/wp-content/uploads/2018/03/Grand-March-2018.jpg
ORGANIZER;CN="The Calgary Highlanders Regimental Funds Foundation":MAILTO:CHRFF@calgaryhighlanders.com
END:VEVENT
BEGIN:VEVENT
DTSTART;VALUE=DATE:20250413
DTEND;VALUE=DATE:20250414
DTSTAMP:20260422T163546
CREATED:20250304T223058Z
LAST-MODIFIED:20250304T223058Z
UID:16668-1744502400-1744588799@calgaryhighlanders.com
SUMMARY:Into the Summit - Caving Fundraiser
DESCRIPTION:The Hamilton Gault Memorial Fund is again putting on an exciting adventure in support of mental health and raising money for the treatment of Occupational Stress Injury. \nVisit the Website for more information \n\n\n\nOn April 13\, 2025\, participants from The Military Museums\, PPCLI\, and Calgary communities\, will descend into Rat’s Nest Cave near Canmore\, Alberta. Doing so\, these adventurers will raise vital funds for and awareness about post-traumatic stress disorder and its devastating effects on individuals and families. \n\n\n\n\n\n\nCaves are dark\, otherworldly environments. Most people have not had the experience of total darkness\, moving through difficult terrain. \nIt’s an unfamiliar world. Like many of those who suffer from occupational stress injuries\, they too have found themselves in an unfamiliar place\, struggling to navigate the darkness. \nAt over 4km long\, Rat’s Nest Cave is one of the longest caves in Canada and there are no lights\, handrails or permanent lights. \n\nParticipants are raising funds to participate in this adventure and experience this challenging environment. Each has committed to raising funds by taking pledges to support their participation in this adventure.
URL:https://calgaryhighlanders.com/event/into-the-summit-caving-fundraiser/
LOCATION:Rat’s Nest Caves\, Canmore\, Alberta\, Canada
CATEGORIES:Home Page
ATTACH;FMTTYPE=image/jpeg:https://calgaryhighlanders.com/wp-content/uploads/Into_The_Summit_Cave_Fundraiser.jpg
END:VEVENT
BEGIN:VEVENT
DTSTART;TZID=America/Edmonton:20260523T180000
DTEND;TZID=America/Edmonton:20260523T233000
DTSTAMP:20260422T163547
CREATED:20260123T003520Z
LAST-MODIFIED:20260123T003520Z
UID:16891-1779559200-1779579000@calgaryhighlanders.com
SUMMARY:76th Grand Highland Military Ball
DESCRIPTION:We are delighted to host the 74th Grand Highland Military Ball at The Fairmont Palliser on Saturday\, May 23\, 2026. \nVisit the Website for more information \nAdditional information will be posted to this Website as it becomes available. We are highlighting our proud participation in the challenges that our country faces today and in the future. \n​Enjoy this traditional and formal dinner and dance. An extraordinary event for the past 76 years\, it is one of our city’s longest-standing celebrations of Calgary’s infantry regiment and its service to Canada and our community.
URL:https://calgaryhighlanders.com/event/76th-grand-highland-military-ball/
LOCATION:The Fairmont Palliser Hotel\, 133 9 Ave SW\, Calgary\, Alberta\, T2P 2M3\, Canada
CATEGORIES:Highland Ball,Home Page
ATTACH;FMTTYPE=image/png:https://calgaryhighlanders.com/wp-content/uploads/Grand-March-75th-GHMB-1.png
ORGANIZER;CN="The Calgary Highlanders Regimental Funds Foundation":MAILTO:CHRFF@calgaryhighlanders.com
END:VEVENT
END:VCALENDAR