BEGIN:VCALENDAR
VERSION:2.0
PRODID:-//The Calgary Highlanders (10th Canadians) - ECPv6.15.15//NONSGML v1.0//EN
CALSCALE:GREGORIAN
METHOD:PUBLISH
X-WR-CALNAME:The Calgary Highlanders (10th Canadians)
X-ORIGINAL-URL:https://calgaryhighlanders.com
X-WR-CALDESC:Events for The Calgary Highlanders (10th Canadians)
REFRESH-INTERVAL;VALUE=DURATION:PT1H
X-Robots-Tag:noindex
X-PUBLISHED-TTL:PT1H
BEGIN:VTIMEZONE
TZID:America/Edmonton
BEGIN:DAYLIGHT
TZOFFSETFROM:-0700
TZOFFSETTO:-0600
TZNAME:MDT
DTSTART:20170312T090000
END:DAYLIGHT
BEGIN:STANDARD
TZOFFSETFROM:-0600
TZOFFSETTO:-0700
TZNAME:MST
DTSTART:20171105T080000
END:STANDARD
BEGIN:DAYLIGHT
TZOFFSETFROM:-0700
TZOFFSETTO:-0600
TZNAME:MDT
DTSTART:20180311T090000
END:DAYLIGHT
BEGIN:STANDARD
TZOFFSETFROM:-0600
TZOFFSETTO:-0700
TZNAME:MST
DTSTART:20181104T080000
END:STANDARD
BEGIN:DAYLIGHT
TZOFFSETFROM:-0700
TZOFFSETTO:-0600
TZNAME:MDT
DTSTART:20190310T090000
END:DAYLIGHT
BEGIN:STANDARD
TZOFFSETFROM:-0600
TZOFFSETTO:-0700
TZNAME:MST
DTSTART:20191103T080000
END:STANDARD
END:VTIMEZONE
BEGIN:VEVENT
DTSTART;TZID=America/Edmonton:20181026T180000
DTEND;TZID=America/Edmonton:20181026T233000
DTSTAMP:20260422T163639
CREATED:20180924T025421Z
LAST-MODIFIED:20191202T033811Z
UID:13864-1540576800-1540596600@calgaryhighlanders.com
SUMMARY:Walcheren Officers Mess Dinner 2018
DESCRIPTION:The Battle of Walcheren Causeway Officers’ Mess Dinner is on 26 October 2018. This is a private by invitation event. \n 
URL:https://calgaryhighlanders.com/event/walchren-2018/
LOCATION:Mewata Armoury\, 801 - 11 Street SW\, Calgary\, Alberta\, T2P 2C4\, Canada
ATTACH;FMTTYPE=image/jpeg:https://calgaryhighlanders.com/wp-content/uploads/2018/09/walch8a.jpg
ORGANIZER;CN="Calgary Highlanders Officers Mess":MAILTO:OfficersMess@Calgaryhighlanders.com
END:VEVENT
BEGIN:VEVENT
DTSTART;TZID=America/Edmonton:20181025T190000
DTEND;TZID=America/Edmonton:20181025T210000
DTSTAMP:20260422T163639
CREATED:20181002T034254Z
LAST-MODIFIED:20191202T033955Z
UID:14214-1540494000-1540501200@calgaryhighlanders.com
SUMMARY:Ellis Lecture
DESCRIPTION:TBA
URL:https://calgaryhighlanders.com/event/ellis-lecture/
LOCATION:Mewata Armoury\, 801 - 11 Street SW\, Calgary\, Alberta\, T2P 2C4\, Canada
ORGANIZER;CN="The Calgary Highlanders":MAILTO:info@calgaryhighlanders.com
END:VEVENT
BEGIN:VEVENT
DTSTART;TZID=America/Edmonton:20181024T190000
DTEND;TZID=America/Edmonton:20181024T200000
DTSTAMP:20260422T163639
CREATED:20180928T232137Z
LAST-MODIFIED:20191202T034552Z
UID:13905-1540407600-1540411200@calgaryhighlanders.com
SUMMARY:Walcheren Causeway Parade
DESCRIPTION:Walcheren Causeway – the Battle of Walcheren Causeway (31 Oct – 2 Nov 1944) is commemorated annually by the Regiment on the weekend closest to 31 October.  A parade and drumhead church service are held\, and the local Dutch community participates in the event.  In past years this has included a choir in traditional Dutch national costume\, buffet lunch with Dutch cuisine\, and inspection of the Guard by the Dutch Consul General.  The public is welcome to attend this event.
URL:https://calgaryhighlanders.com/event/walcheren-causeway-parade/
LOCATION:Mewata Armoury\, 801 - 11 Street SW\, Calgary\, Alberta\, T2P 2C4\, Canada
ATTACH;FMTTYPE=image/jpeg:https://calgaryhighlanders.com/wp-content/uploads/2018/09/2015_d3_n.jpg
ORGANIZER;CN="The Calgary Highlanders":MAILTO:info@calgaryhighlanders.com
END:VEVENT
BEGIN:VEVENT
DTSTART;TZID=America/Edmonton:20180923T000000
DTEND;TZID=America/Edmonton:20180923T000000
DTSTAMP:20260422T163639
CREATED:20180924T034252Z
LAST-MODIFIED:20180924T034252Z
UID:13873-1537660800-1537660800@calgaryhighlanders.com
SUMMARY:Regimental Office
DESCRIPTION:
URL:https://calgaryhighlanders.com/event/regimental-office/
LOCATION:Alberta
END:VEVENT
END:VCALENDAR